Workbook

Sheet 使い方
B1: ストレスチェック 判定・集団分析シート(職業性ストレス簡易調査票 57項目用)
B3: この表でできること
B5: ・回答(1〜4)を入れると、領域A・B・Cの合計点と、高ストレス者の候補(一次判定)が出ます。
B6: ・部署ごとの集団分析(仕事のストレス判定図の4つの点数と健康リスク)が出ます。10人未満の部署は表示しません。
B7: 使い方
B9: 1. 「回答」シートの黄色の範囲に、1人1行で入力します(紙の回答を入力するか、Webのフォームの回答を貼り付けます)。
B10: 回答は、質問票の左の選択肢から順に 1・2・3・4 の数字で入れます(Aは「そうだ」=1、Bは「ほとんどなかった」=1、Cは「非常に」=1、Dは「満足」=1)。
B11: 6行目は厚生労働省の解説資料の回答例です(集計には入りません)。消さずにそのままにしておきます。
B12: 2. 「部署」には、集団分析でまとめたい単位(課・拠点など)を入れます。
B13: 3. 「集団分析」シートのA列に部署名を入れると、その部署の点数と健康リスクが出ます。
B14: 4. 判定の基準と、健康リスクの計算に使う全国平均・係数は「設定」シートで変えられます。
B15: 必ず守ること
... B22: 出典: 厚生労働省「数値基準に基づいて『高ストレス者』を選定する方法」、東京大学「仕事のストレス判定図」テクニカルノート。作成: 労務のしくみ帳(roumu-shikumi.com/stress-check/)

Sheet 回答
A1: 回答(1人1行。黄色の範囲に1〜4を入れる)
A2: Aは「そうだ」=1、Bは「ほとんどなかった」=1、Cは「非常に」=1、Dは「満足」=1(質問票の左の選択肢から1・2・3・4)。右側の灰色の列は自動で計算されます。
D4: A 仕事について | U4: B 最近1か月の状態 | AX4: C 周りの方々 | BG4: D 満足度 | BJ4: 自動で計算
A5: 番号 | B5: 部署 | C5: 性別(任意) | D5: A1 | E5: A2 | F5: A3 | G5: A4 | H5: A5 | I5: A6 | J5: A7 | K5: A8 | L5: A9 | M5: A10 | N5: A11 | O5: A12 | P5: A13 | Q5: A14 | R5: A15 | S5: A16 | T5: A17 | U5: B1 | V5: B2 | W5: B3 | X5: B4 | Y5: B5 | Z5: B6 | AA5: B7 | AB5: B8 | AC5: B9 | AD5: B10 | AE5: B11 | AF5: B12 | AG5: B13 | AH5: B14 | AI5: B15 | AJ5: B16 | AK5: B17 | AL5: B18 | AM5: B19 | AN5: B20 | AO5: B21 | AP5: B22 | AQ5: B23 | AR5: B24 | AS5: B25 | AT5: B26 | AU5: B27 | AV5: B28 | AW5: B29 | AX5: C1 | AY5: C2 | AZ5: C3 | BA5: C4 | BB5: C5 | BC5: C6 | BD5: C7 | BE5: C8 | BF5: C9 | BG5: D1 | BH5: D2 | BJ5: 未回答 | BK5: A合計 | BL5: B合計 | BM5: C合計 | BN5: A+C | BO5: 一次判定 | BP5: 量的負担 | BQ5: コントロール | BR5: 上司の支援 | BS5: 同僚の支援
A6: 例 | B6: (回答例) | D6: 1 | E6: 1 | F6: 2 | G6: 3 | H6: 3 | I6: 1 | J6: 4 | K6: 4 | L6: 3 | M6: 3 | N6: 2 | O6: 3 | P6: 2 | Q6: 4 | R6: 3 | S6: 3 | T6: 4 | U6: 1 | V6: 1 | W6: 1 | X6: 2 | Y6: 3 | Z6: 3 | AA6: 4 | AB6: 4 | AC6: 4 | AD6: 3 | AE6: 3 | AF6: 4 | AG6: 4 | AH6: 4 | AI6: 3 | AJ6: 3 | AK6: 2 | AL6: 2 | AM6: 2 | AN6: 2 | AO6: 3 | AP6: 4 | AQ6: 3 | AR6: 4 | AS6: 2 | AT6: 3 | AU6: 3 | AV6: 3 | AW6: 3 | AX6: 4 | AY6: 3 | AZ6: 3 | BA6: 4 | BB6: 3 | BC6: 4 | BD6: 4 | BE6: 3 | BF6: 3 | BG6: 2 | BH6: 2 | BJ6: =IF(COUNTA(D6:BF6)=0,"",55-COUNT(D6:BF6)) -> 0 | BK6: =IF(BJ6=0,(5-D6)+(5-E6)+(5-F6)+(5-G6)+(5-H6)+(5-I6)+(5-J6)+K6+L6+M6+(5-N6)+(5-O6)+(5-P6)+Q6+(5-R6)+S6+T6,"") -> 51 | BL6: =IF(BJ6=0,(5-U6)+(5-V6)+(5-W6)+X6+Y6+Z6+AA6+AB6+AC6+AD6+AE6+AF6+AG6+AH6+AI6+AJ6+AK6+AL6+AM6+AN6+AO6+AP6+AQ6+AR6+AS6+AT6+AU6+AV6+AW6,"") -> 92 | BM6: =IF(BJ6=0,AX6+AY6+AZ6+BA6+BB6+BC6+BD6+BE6+BF6,"") -> 31 | BN6: =IF(BJ6=0,BK6+BM6,"") -> 82 | BO6: =IF(BJ6="","",IF(BJ6>0,"未回答あり",IF(OR(BL6>=設定!$B$4,AND(BL6>=設定!$B$5,BN6>=設定!$B$6)),"高ストレス候補","―"))) -> 高ストレス候補 | BP6: =IF(BJ6=0,(5-D6)+(5-E6)+(5-F6),"") -> 11 | BQ6: =IF(BJ6=0,(5-K6)+(5-L6)+(5-M6),"") -> 5 | BR6: =IF(BJ6=0,(5-AX6)+(5-BA6)+(5-BD6),"") -> 3 | BS6: =IF(BJ6=0,(5-AY6)+(5-BB6)+(5-BE6),"") -> 6
BJ7: =IF(COUNTA(D7:BF7)=0,"",55-COUNT(D7:BF7)) | BK7: =IF(BJ7=0,(5-D7)+(5-E7)+(5-F7)+(5-G7)+(5-H7)+(5-I7)+(5-J7)+K7+L7+M7+(5-N7)+(5-O7)+(5-P7)+Q7+(5-R7)+S7+T7,"") | BL7: =IF(BJ7=0,(5-U7)+(5-V7)+(5-W7)+X7+Y7+Z7+AA7+AB7+AC7+AD7+AE7+AF7+AG7+AH7+AI7+AJ7+AK7+AL7+AM7+AN7+AO7+AP7+AQ7+AR7+AS7+AT7+AU7+AV7+AW7,"") | BM7: =IF(BJ7=0,AX7+AY7+AZ7+BA7+BB7+BC7+BD7+BE7+BF7,"") | BN7: =IF(BJ7=0,BK7+BM7,"") | BO7: =IF(BJ7="","",IF(BJ7>0,"未回答あり",IF(OR(BL7>=設定!$B$4,AND(BL7>=設定!$B$5,BN7>=設定!$B$6)),"高ストレス候補","―"))) | BP7: =IF(BJ7=0,(5-D7)+(5-E7)+(5-F7),"") | BQ7: =IF(BJ7=0,(5-K7)+(5-L7)+(5-M7),"") | BR7: =IF(BJ7=0,(5-AX7)+(5-BA7)+(5-BD7),"") | BS7: =IF(BJ7=0,(5-AY7)+(5-BB7)+(5-BE7),"")
BJ8: =IF(COUNTA(D8:BF8)=0,"",55-COUNT(D8:BF8)) | BK8: =IF(BJ8=0,(5-D8)+(5-E8)+(5-F8)+(5-G8)+(5-H8)+(5-I8)+(5-J8)+K8+L8+M8+(5-N8)+(5-O8)+(5-P8)+Q8+(5-R8)+S8+T8,"") | BL8: =IF(BJ8=0,(5-U8)+(5-V8)+(5-W8)+X8+Y8+Z8+AA8+AB8+AC8+AD8+AE8+AF8+AG8+AH8+AI8+AJ8+AK8+AL8+AM8+AN8+AO8+AP8+AQ8+AR8+AS8+AT8+AU8+AV8+AW8,"") | BM8: =IF(BJ8=0,AX8+AY8+AZ8+BA8+BB8+BC8+BD8+BE8+BF8,"") | BN8: =IF(BJ8=0,BK8+BM8,"") | BO8: =IF(BJ8="","",IF(BJ8>0,"未回答あり",IF(OR(BL8>=設定!$B$4,AND(BL8>=設定!$B$5,BN8>=設定!$B$6)),"高ストレス候補","―"))) | BP8: =IF(BJ8=0,(5-D8)+(5-E8)+(5-F8),"") | BQ8: =IF(BJ8=0,(5-K8)+(5-L8)+(5-M8),"") | BR8: =IF(BJ8=0,(5-AX8)+(5-BA8)+(5-BD8),"") | BS8: =IF(BJ8=0,(5-AY8)+(5-BB8)+(5-BE8),"")
BJ9: =IF(COUNTA(D9:BF9)=0,"",55-COUNT(D9:BF9)) | BK9: =IF(BJ9=0,(5-D9)+(5-E9)+(5-F9)+(5-G9)+(5-H9)+(5-I9)+(5-J9)+K9+L9+M9+(5-N9)+(5-O9)+(5-P9)+Q9+(5-R9)+S9+T9,"") | BL9: =IF(BJ9=0,(5-U9)+(5-V9)+(5-W9)+X9+Y9+Z9+AA9+AB9+AC9+AD9+AE9+AF9+AG9+AH9+AI9+AJ9+AK9+AL9+AM9+AN9+AO9+AP9+AQ9+AR9+AS9+AT9+AU9+AV9+AW9,"") | BM9: =IF(BJ9=0,AX9+AY9+AZ9+BA9+BB9+BC9+BD9+BE9+BF9,"") | BN9: =IF(BJ9=0,BK9+BM9,"") | BO9: =IF(BJ9="","",IF(BJ9>0,"未回答あり",IF(OR(BL9>=設定!$B$4,AND(BL9>=設定!$B$5,BN9>=設定!$B$6)),"高ストレス候補","―"))) | BP9: =IF(BJ9=0,(5-D9)+(5-E9)+(5-F9),"") | BQ9: =IF(BJ9=0,(5-K9)+(5-L9)+(5-M9),"") | BR9: =IF(BJ9=0,(5-AX9)+(5-BA9)+(5-BD9),"") | BS9: =IF(BJ9=0,(5-AY9)+(5-BB9)+(5-BE9),"")
BJ10: =IF(COUNTA(D10:BF10)=0,"",55-COUNT(D10:BF10)) | BK10: =IF(BJ10=0,(5-D10)+(5-E10)+(5-F10)+(5-G10)+(5-H10)+(5-I10)+(5-J10)+K10+L10+M10+(5-N10)+(5-O10)+(5-P10)+Q10+(5-R10)+S10+T10,"") | BL10: =IF(BJ10=0,(5-U10)+(5-V10)+(5-W10)+X10+Y10+Z10+AA10+AB10+AC10+AD10+AE10+AF10+AG10+AH10+AI10+AJ10+AK10+AL10+AM10+AN10+AO10+AP10+AQ10+AR10+AS10+AT10+AU10+AV10+AW10,"") | BM10: =IF(BJ10=0,AX10+AY10+AZ10+BA10+BB10+BC10+BD10+BE10+BF10,"") | BN10: =IF(BJ10=0,BK10+BM10,"") | BO10: =IF(BJ10="","",IF(BJ10>0,"未回答あり",IF(OR(BL10>=設定!$B$4,AND(BL10>=設定!$B$5,BN10>=設定!$B$6)),"高ストレス候補","―"))) | BP10: =IF(BJ10=0,(5-D10)+(5-E10)+(5-F10),"") | BQ10: =IF(BJ10=0,(5-K10)+(5-L10)+(5-M10),"") | BR10: =IF(BJ10=0,(5-AX10)+(5-BA10)+(5-BD10),"") | BS10: =IF(BJ10=0,(5-AY10)+(5-BB10)+(5-BE10),"")
BJ11: =IF(COUNTA(D11:BF11)=0,"",55-COUNT(D11:BF11)) | BK11: =IF(BJ11=0,(5-D11)+(5-E11)+(5-F11)+(5-G11)+(5-H11)+(5-I11)+(5-J11)+K11+L11+M11+(5-N11)+(5-O11)+(5-P11)+Q11+(5-R11)+S11+T11,"") | BL11: =IF(BJ11=0,(5-U11)+(5-V11)+(5-W11)+X11+Y11+Z11+AA11+AB11+AC11+AD11+AE11+AF11+AG11+AH11+AI11+AJ11+AK11+AL11+AM11+AN11+AO11+AP11+AQ11+AR11+AS11+AT11+AU11+AV11+AW11,"") | BM11: =IF(BJ11=0,AX11+AY11+AZ11+BA11+BB11+BC11+BD11+BE11+BF11,"") | BN11: =IF(BJ11=0,BK11+BM11,"") | BO11: =IF(BJ11="","",IF(BJ11>0,"未回答あり",IF(OR(BL11>=設定!$B$4,AND(BL11>=設定!$B$5,BN11>=設定!$B$6)),"高ストレス候補","―"))) | BP11: =IF(BJ11=0,(5-D11)+(5-E11)+(5-F11),"") | BQ11: =IF(BJ11=0,(5-K11)+(5-L11)+(5-M11),"") | BR11: =IF(BJ11=0,(5-AX11)+(5-BA11)+(5-BD11),"") | BS11: =IF(BJ11=0,(5-AY11)+(5-BB11)+(5-BE11),"")
BJ12: =IF(COUNTA(D12:BF12)=0,"",55-COUNT(D12:BF12)) | BK12: =IF(BJ12=0,(5-D12)+(5-E12)+(5-F12)+(5-G12)+(5-H12)+(5-I12)+(5-J12)+K12+L12+M12+(5-N12)+(5-O12)+(5-P12)+Q12+(5-R12)+S12+T12,"") | BL12: =IF(BJ12=0,(5-U12)+(5-V12)+(5-W12)+X12+Y12+Z12+AA12+AB12+AC12+AD12+AE12+AF12+AG12+AH12+AI12+AJ12+AK12+AL12+AM12+AN12+AO12+AP12+AQ12+AR12+AS12+AT12+AU12+AV12+AW12,"") | BM12: =IF(BJ12=0,AX12+AY12+AZ12+BA12+BB12+BC12+BD12+BE12+BF12,"") | BN12: =IF(BJ12=0,BK12+BM12,"") | BO12: =IF(BJ12="","",IF(BJ12>0,"未回答あり",IF(OR(BL12>=設定!$B$4,AND(BL12>=設定!$B$5,BN12>=設定!$B$6)),"高ストレス候補","―"))) | BP12: =IF(BJ12=0,(5-D12)+(5-E12)+(5-F12),"") | BQ12: =IF(BJ12=0,(5-K12)+(5-L12)+(5-M12),"") | BR12: =IF(BJ12=0,(5-AX12)+(5-BA12)+(5-BD12),"") | BS12: =IF(BJ12=0,(5-AY12)+(5-BB12)+(5-BE12),"")
BJ13: =IF(COUNTA(D13:BF13)=0,"",55-COUNT(D13:BF13)) | BK13: =IF(BJ13=0,(5-D13)+(5-E13)+(5-F13)+(5-G13)+(5-H13)+(5-I13)+(5-J13)+K13+L13+M13+(5-N13)+(5-O13)+(5-P13)+Q13+(5-R13)+S13+T13,"") | BL13: =IF(BJ13=0,(5-U13)+(5-V13)+(5-W13)+X13+Y13+Z13+AA13+AB13+AC13+AD13+AE13+AF13+AG13+AH13+AI13+AJ13+AK13+AL13+AM13+AN13+AO13+AP13+AQ13+AR13+AS13+AT13+AU13+AV13+AW13,"") | BM13: =IF(BJ13=0,AX13+AY13+AZ13+BA13+BB13+BC13+BD13+BE13+BF13,"") | BN13: =IF(BJ13=0,BK13+BM13,"") | BO13: =IF(BJ13="","",IF(BJ13>0,"未回答あり",IF(OR(BL13>=設定!$B$4,AND(BL13>=設定!$B$5,BN13>=設定!$B$6)),"高ストレス候補","―"))) | BP13: =IF(BJ13=0,(5-D13)+(5-E13)+(5-F13),"") | BQ13: =IF(BJ13=0,(5-K13)+(5-L13)+(5-M13),"") | BR13: =IF(BJ13=0,(5-AX13)+(5-BA13)+(5-BD13),"") | BS13: =IF(BJ13=0,(5-AY13)+(5-BB13)+(5-BE13),"")
BJ14: =IF(COUNTA(D14:BF14)=0,"",55-COUNT(D14:BF14)) | BK14: =IF(BJ14=0,(5-D14)+(5-E14)+(5-F14)+(5-G14)+(5-H14)+(5-I14)+(5-J14)+K14+L14+M14+(5-N14)+(5-O14)+(5-P14)+Q14+(5-R14)+S14+T14,"") | BL14: =IF(BJ14=0,(5-U14)+(5-V14)+(5-W14)+X14+Y14+Z14+AA14+AB14+AC14+AD14+AE14+AF14+AG14+AH14+AI14+AJ14+AK14+AL14+AM14+AN14+AO14+AP14+AQ14+AR14+AS14+AT14+AU14+AV14+AW14,"") | BM14: =IF(BJ14=0,AX14+AY14+AZ14+BA14+BB14+BC14+BD14+BE14+BF14,"") | BN14: =IF(BJ14=0,BK14+BM14,"") | BO14: =IF(BJ14="","",IF(BJ14>0,"未回答あり",IF(OR(BL14>=設定!$B$4,AND(BL14>=設定!$B$5,BN14>=設定!$B$6)),"高ストレス候補","―"))) | BP14: =IF(BJ14=0,(5-D14)+(5-E14)+(5-F14),"") | BQ14: =IF(BJ14=0,(5-K14)+(5-L14)+(5-M14),"") | BR14: =IF(BJ14=0,(5-AX14)+(5-BA14)+(5-BD14),"") | BS14: =IF(BJ14=0,(5-AY14)+(5-BB14)+(5-BE14),"")
BJ15: =IF(COUNTA(D15:BF15)=0,"",55-COUNT(D15:BF15)) | BK15: =IF(BJ15=0,(5-D15)+(5-E15)+(5-F15)+(5-G15)+(5-H15)+(5-I15)+(5-J15)+K15+L15+M15+(5-N15)+(5-O15)+(5-P15)+Q15+(5-R15)+S15+T15,"") | BL15: =IF(BJ15=0,(5-U15)+(5-V15)+(5-W15)+X15+Y15+Z15+AA15+AB15+AC15+AD15+AE15+AF15+AG15+AH15+AI15+AJ15+AK15+AL15+AM15+AN15+AO15+AP15+AQ15+AR15+AS15+AT15+AU15+AV15+AW15,"") | BM15: =IF(BJ15=0,AX15+AY15+AZ15+BA15+BB15+BC15+BD15+BE15+BF15,"") | BN15: =IF(BJ15=0,BK15+BM15,"") | BO15: =IF(BJ15="","",IF(BJ15>0,"未回答あり",IF(OR(BL15>=設定!$B$4,AND(BL15>=設定!$B$5,BN15>=設定!$B$6)),"高ストレス候補","―"))) | BP15: =IF(BJ15=0,(5-D15)+(5-E15)+(5-F15),"") | BQ15: =IF(BJ15=0,(5-K15)+(5-L15)+(5-M15),"") | BR15: =IF(BJ15=0,(5-AX15)+(5-BA15)+(5-BD15),"") | BS15: =IF(BJ15=0,(5-AY15)+(5-BB15)+(5-BE15),"")
BJ16: =IF(COUNTA(D16:BF16)=0,"",55-COUNT(D16:BF16)) | BK16: =IF(BJ16=0,(5-D16)+(5-E16)+(5-F16)+(5-G16)+(5-H16)+(5-I16)+(5-J16)+K16+L16+M16+(5-N16)+(5-O16)+(5-P16)+Q16+(5-R16)+S16+T16,"") | BL16: =IF(BJ16=0,(5-U16)+(5-V16)+(5-W16)+X16+Y16+Z16+AA16+AB16+AC16+AD16+AE16+AF16+AG16+AH16+AI16+AJ16+AK16+AL16+AM16+AN16+AO16+AP16+AQ16+AR16+AS16+AT16+AU16+AV16+AW16,"") | BM16: =IF(BJ16=0,AX16+AY16+AZ16+BA16+BB16+BC16+BD16+BE16+BF16,"") | BN16: =IF(BJ16=0,BK16+BM16,"") | BO16: =IF(BJ16="","",IF(BJ16>0,"未回答あり",IF(OR(BL16>=設定!$B$4,AND(BL16>=設定!$B$5,BN16>=設定!$B$6)),"高ストレス候補","―"))) | BP16: =IF(BJ16=0,(5-D16)+(5-E16)+(5-F16),"") | BQ16: =IF(BJ16=0,(5-K16)+(5-L16)+(5-M16),"") | BR16: =IF(BJ16=0,(5-AX16)+(5-BA16)+(5-BD16),"") | BS16: =IF(BJ16=0,(5-AY16)+(5-BB16)+(5-BE16),"")
BJ17: =IF(COUNTA(D17:BF17)=0,"",55-COUNT(D17:BF17)) | BK17: =IF(BJ17=0,(5-D17)+(5-E17)+(5-F17)+(5-G17)+(5-H17)+(5-I17)+(5-J17)+K17+L17+M17+(5-N17)+(5-O17)+(5-P17)+Q17+(5-R17)+S17+T17,"") | BL17: =IF(BJ17=0,(5-U17)+(5-V17)+(5-W17)+X17+Y17+Z17+AA17+AB17+AC17+AD17+AE17+AF17+AG17+AH17+AI17+AJ17+AK17+AL17+AM17+AN17+AO17+AP17+AQ17+AR17+AS17+AT17+AU17+AV17+AW17,"") | BM17: =IF(BJ17=0,AX17+AY17+AZ17+BA17+BB17+BC17+BD17+BE17+BF17,"") | BN17: =IF(BJ17=0,BK17+BM17,"") | BO17: =IF(BJ17="","",IF(BJ17>0,"未回答あり",IF(OR(BL17>=設定!$B$4,AND(BL17>=設定!$B$5,BN17>=設定!$B$6)),"高ストレス候補","―"))) | BP17: =IF(BJ17=0,(5-D17)+(5-E17)+(5-F17),"") | BQ17: =IF(BJ17=0,(5-K17)+(5-L17)+(5-M17),"") | BR17: =IF(BJ17=0,(5-AX17)+(5-BA17)+(5-BD17),"") | BS17: =IF(BJ17=0,(5-AY17)+(5-BB17)+(5-BE17),"")
BJ18: =IF(COUNTA(D18:BF18)=0,"",55-COUNT(D18:BF18)) | BK18: =IF(BJ18=0,(5-D18)+(5-E18)+(5-F18)+(5-G18)+(5-H18)+(5-I18)+(5-J18)+K18+L18+M18+(5-N18)+(5-O18)+(5-P18)+Q18+(5-R18)+S18+T18,"") | BL18: =IF(BJ18=0,(5-U18)+(5-V18)+(5-W18)+X18+Y18+Z18+AA18+AB18+AC18+AD18+AE18+AF18+AG18+AH18+AI18+AJ18+AK18+AL18+AM18+AN18+AO18+AP18+AQ18+AR18+AS18+AT18+AU18+AV18+AW18,"") | BM18: =IF(BJ18=0,AX18+AY18+AZ18+BA18+BB18+BC18+BD18+BE18+BF18,"") | BN18: =IF(BJ18=0,BK18+BM18,"") | BO18: =IF(BJ18="","",IF(BJ18>0,"未回答あり",IF(OR(BL18>=設定!$B$4,AND(BL18>=設定!$B$5,BN18>=設定!$B$6)),"高ストレス候補","―"))) | BP18: =IF(BJ18=0,(5-D18)+(5-E18)+(5-F18),"") | BQ18: =IF(BJ18=0,(5-K18)+(5-L18)+(5-M18),"") | BR18: =IF(BJ18=0,(5-AX18)+(5-BA18)+(5-BD18),"") | BS18: =IF(BJ18=0,(5-AY18)+(5-BB18)+(5-BE18),"")
... BJ306: =IF(COUNTA(D306:BF306)=0,"",55-COUNT(D306:BF306)) | BK306: =IF(BJ306=0,(5-D306)+(5-E306)+(5-F306)+(5-G306)+(5-H306)+(5-I306)+(5-J306)+K306+L306+M306+(5-N306)+(5-O306)+(5-P306)+Q306+(5-R306)+S306+T306,"") | BL306: =IF(BJ306=0,(5-U306)+(5-V306)+(5-W306)+X306+Y306+Z306+AA306+AB306+AC306+AD306+AE306+AF306+AG306+AH306+AI306+AJ306+AK306+AL306+AM306+AN306+AO306+AP306+AQ306+AR306+AS306+AT306+AU306+AV306+AW306,"") | BM306: =IF(BJ306=0,AX306+AY306+AZ306+BA306+BB306+BC306+BD306+BE306+BF306,"") | BN306: =IF(BJ306=0,BK306+BM306,"") | BO306: =IF(BJ306="","",IF(BJ306>0,"未回答あり",IF(OR(BL306>=設定!$B$4,AND(BL306>=設定!$B$5,BN306>=設定!$B$6)),"高ストレス候補","―"))) | BP306: =IF(BJ306=0,(5-D306)+(5-E306)+(5-F306),"") | BQ306: =IF(BJ306=0,(5-K306)+(5-L306)+(5-M306),"") | BR306: =IF(BJ306=0,(5-AX306)+(5-BA306)+(5-BD306),"") | BS306: =IF(BJ306=0,(5-AY306)+(5-BB306)+(5-BE306),"")

Sheet 集団分析
A1: 集団分析(仕事のストレス判定図)と、受検の状況
A2: A列の黄色のセルに部署名(「回答」シートの部署と同じ書き方)を入れます。健康リスクは全国平均を100とした値で、120を超えると職場に何らかの問題が生じていることが多いとされます。
A4: 部署 | B4: 回答者数 | C4: 仕事の量的負担 | D4: 仕事のコントロール | E4: 上司の支援 | F4: 同僚の支援 | G4: 健康リスク(量-コントロール) | H4: 健康リスク(職場の支援) | I4: 総合健康リスク | J4: メモ
A5: 全体 | B5: =COUNTIFS(回答!$BJ$7:$BJ$306,0) -> 0 | C5: =IF($B5<設定!$B$10,"―",ROUND(AVERAGEIFS(回答!$BP$7:$BP$306,回答!$BJ$7:$BJ$306,0),1)) -> ― | D5: =IF($B5<設定!$B$10,"―",ROUND(AVERAGEIFS(回答!$BQ$7:$BQ$306,回答!$BJ$7:$BJ$306,0),1)) -> ― | E5: =IF($B5<設定!$B$10,"―",ROUND(AVERAGEIFS(回答!$BR$7:$BR$306,回答!$BJ$7:$BJ$306,0),1)) -> ― | F5: =IF($B5<設定!$B$10,"―",ROUND(AVERAGEIFS(回答!$BS$7:$BS$306,回答!$BJ$7:$BJ$306,0),1)) -> ― | G5: =IF($B5<設定!$B$10,"―",ROUND(100*EXP((C5-設定!$B$21)*設定!$C$21+(D5-設定!$B$22)*設定!$C$22),0)) -> ― | H5: =IF($B5<設定!$B$10,"―",ROUND(100*EXP((E5-設定!$B$23)*設定!$C$23+(F5-設定!$B$24)*設定!$C$24),0)) -> ― | I5: =IF($B5<設定!$B$10,"―",ROUND(G5*H5/100,0)) -> ― | J5: =IF($B5=0,"",IF($B5<設定!$B$10,"人数が少ないため表示しない",IF(I5>=120,"要注意(120以上)","")))
A6: (例)営業部 | B6: =IF($A6="","",COUNTIFS(回答!$BJ$7:$BJ$306,0,回答!$B$7:$B$306,$A6)) -> 0 | C6: =IF($A6="","",IF($B6<設定!$B$10,"―",ROUND(AVERAGEIFS(回答!$BP$7:$BP$306,回答!$BJ$7:$BJ$306,0,回答!$B$7:$B$306,$A6),1))) -> ― | D6: =IF($A6="","",IF($B6<設定!$B$10,"―",ROUND(AVERAGEIFS(回答!$BQ$7:$BQ$306,回答!$BJ$7:$BJ$306,0,回答!$B$7:$B$306,$A6),1))) -> ― | E6: =IF($A6="","",IF($B6<設定!$B$10,"―",ROUND(AVERAGEIFS(回答!$BR$7:$BR$306,回答!$BJ$7:$BJ$306,0,回答!$B$7:$B$306,$A6),1))) -> ― | F6: =IF($A6="","",IF($B6<設定!$B$10,"―",ROUND(AVERAGEIFS(回答!$BS$7:$BS$306,回答!$BJ$7:$BJ$306,0,回答!$B$7:$B$306,$A6),1))) -> ― | G6: =IF($A6="","",IF($B6<設定!$B$10,"―",ROUND(100*EXP((C6-設定!$B$21)*設定!$C$21+(D6-設定!$B$22)*設定!$C$22),0))) -> ― | H6: =IF($A6="","",IF($B6<設定!$B$10,"―",ROUND(100*EXP((E6-設定!$B$23)*設定!$C$23+(F6-設定!$B$24)*設定!$C$24),0))) -> ― | I6: =IF($A6="","",IF($B6<設定!$B$10,"―",ROUND(G6*H6/100,0))) -> ― | J6: =IF($A6="","",IF($B6=0,"",IF($B6<設定!$B$10,"人数が少ないため表示しない",IF(I6>=120,"要注意(120以上)",""))))
B7: =IF($A7="","",COUNTIFS(回答!$BJ$7:$BJ$306,0,回答!$B$7:$B$306,$A7)) | C7: =IF($A7="","",IF($B7<設定!$B$10,"―",ROUND(AVERAGEIFS(回答!$BP$7:$BP$306,回答!$BJ$7:$BJ$306,0,回答!$B$7:$B$306,$A7),1))) | D7: =IF($A7="","",IF($B7<設定!$B$10,"―",ROUND(AVERAGEIFS(回答!$BQ$7:$BQ$306,回答!$BJ$7:$BJ$306,0,回答!$B$7:$B$306,$A7),1))) | E7: =IF($A7="","",IF($B7<設定!$B$10,"―",ROUND(AVERAGEIFS(回答!$BR$7:$BR$306,回答!$BJ$7:$BJ$306,0,回答!$B$7:$B$306,$A7),1))) | F7: =IF($A7="","",IF($B7<設定!$B$10,"―",ROUND(AVERAGEIFS(回答!$BS$7:$BS$306,回答!$BJ$7:$BJ$306,0,回答!$B$7:$B$306,$A7),1))) | G7: =IF($A7="","",IF($B7<設定!$B$10,"―",ROUND(100*EXP((C7-設定!$B$21)*設定!$C$21+(D7-設定!$B$22)*設定!$C$22),0))) | H7: =IF($A7="","",IF($B7<設定!$B$10,"―",ROUND(100*EXP((E7-設定!$B$23)*設定!$C$23+(F7-設定!$B$24)*設定!$C$24),0))) | I7: =IF($A7="","",IF($B7<設定!$B$10,"―",ROUND(G7*H7/100,0))) | J7: =IF($A7="","",IF($B7=0,"",IF($B7<設定!$B$10,"人数が少ないため表示しない",IF(I7>=120,"要注意(120以上)",""))))
B8: =IF($A8="","",COUNTIFS(回答!$BJ$7:$BJ$306,0,回答!$B$7:$B$306,$A8)) | C8: =IF($A8="","",IF($B8<設定!$B$10,"―",ROUND(AVERAGEIFS(回答!$BP$7:$BP$306,回答!$BJ$7:$BJ$306,0,回答!$B$7:$B$306,$A8),1))) | D8: =IF($A8="","",IF($B8<設定!$B$10,"―",ROUND(AVERAGEIFS(回答!$BQ$7:$BQ$306,回答!$BJ$7:$BJ$306,0,回答!$B$7:$B$306,$A8),1))) | E8: =IF($A8="","",IF($B8<設定!$B$10,"―",ROUND(AVERAGEIFS(回答!$BR$7:$BR$306,回答!$BJ$7:$BJ$306,0,回答!$B$7:$B$306,$A8),1))) | F8: =IF($A8="","",IF($B8<設定!$B$10,"―",ROUND(AVERAGEIFS(回答!$BS$7:$BS$306,回答!$BJ$7:$BJ$306,0,回答!$B$7:$B$306,$A8),1))) | G8: =IF($A8="","",IF($B8<設定!$B$10,"―",ROUND(100*EXP((C8-設定!$B$21)*設定!$C$21+(D8-設定!$B$22)*設定!$C$22),0))) | H8: =IF($A8="","",IF($B8<設定!$B$10,"―",ROUND(100*EXP((E8-設定!$B$23)*設定!$C$23+(F8-設定!$B$24)*設定!$C$24),0))) | I8: =IF($A8="","",IF($B8<設定!$B$10,"―",ROUND(G8*H8/100,0))) | J8: =IF($A8="","",IF($B8=0,"",IF($B8<設定!$B$10,"人数が少ないため表示しない",IF(I8>=120,"要注意(120以上)",""))))
B9: =IF($A9="","",COUNTIFS(回答!$BJ$7:$BJ$306,0,回答!$B$7:$B$306,$A9)) | C9: =IF($A9="","",IF($B9<設定!$B$10,"―",ROUND(AVERAGEIFS(回答!$BP$7:$BP$306,回答!$BJ$7:$BJ$306,0,回答!$B$7:$B$306,$A9),1))) | D9: =IF($A9="","",IF($B9<設定!$B$10,"―",ROUND(AVERAGEIFS(回答!$BQ$7:$BQ$306,回答!$BJ$7:$BJ$306,0,回答!$B$7:$B$306,$A9),1))) | E9: =IF($A9="","",IF($B9<設定!$B$10,"―",ROUND(AVERAGEIFS(回答!$BR$7:$BR$306,回答!$BJ$7:$BJ$306,0,回答!$B$7:$B$306,$A9),1))) | F9: =IF($A9="","",IF($B9<設定!$B$10,"―",ROUND(AVERAGEIFS(回答!$BS$7:$BS$306,回答!$BJ$7:$BJ$306,0,回答!$B$7:$B$306,$A9),1))) | G9: =IF($A9="","",IF($B9<設定!$B$10,"―",ROUND(100*EXP((C9-設定!$B$21)*設定!$C$21+(D9-設定!$B$22)*設定!$C$22),0))) | H9: =IF($A9="","",IF($B9<設定!$B$10,"―",ROUND(100*EXP((E9-設定!$B$23)*設定!$C$23+(F9-設定!$B$24)*設定!$C$24),0))) | I9: =IF($A9="","",IF($B9<設定!$B$10,"―",ROUND(G9*H9/100,0))) | J9: =IF($A9="","",IF($B9=0,"",IF($B9<設定!$B$10,"人数が少ないため表示しない",IF(I9>=120,"要注意(120以上)",""))))
B10: =IF($A10="","",COUNTIFS(回答!$BJ$7:$BJ$306,0,回答!$B$7:$B$306,$A10)) | C10: =IF($A10="","",IF($B10<設定!$B$10,"―",ROUND(AVERAGEIFS(回答!$BP$7:$BP$306,回答!$BJ$7:$BJ$306,0,回答!$B$7:$B$306,$A10),1))) | D10: =IF($A10="","",IF($B10<設定!$B$10,"―",ROUND(AVERAGEIFS(回答!$BQ$7:$BQ$306,回答!$BJ$7:$BJ$306,0,回答!$B$7:$B$306,$A10),1))) | E10: =IF($A10="","",IF($B10<設定!$B$10,"―",ROUND(AVERAGEIFS(回答!$BR$7:$BR$306,回答!$BJ$7:$BJ$306,0,回答!$B$7:$B$306,$A10),1))) | F10: =IF($A10="","",IF($B10<設定!$B$10,"―",ROUND(AVERAGEIFS(回答!$BS$7:$BS$306,回答!$BJ$7:$BJ$306,0,回答!$B$7:$B$306,$A10),1))) | G10: =IF($A10="","",IF($B10<設定!$B$10,"―",ROUND(100*EXP((C10-設定!$B$21)*設定!$C$21+(D10-設定!$B$22)*設定!$C$22),0))) | H10: =IF($A10="","",IF($B10<設定!$B$10,"―",ROUND(100*EXP((E10-設定!$B$23)*設定!$C$23+(F10-設定!$B$24)*設定!$C$24),0))) | I10: =IF($A10="","",IF($B10<設定!$B$10,"―",ROUND(G10*H10/100,0))) | J10: =IF($A10="","",IF($B10=0,"",IF($B10<設定!$B$10,"人数が少ないため表示しない",IF(I10>=120,"要注意(120以上)",""))))
B11: =IF($A11="","",COUNTIFS(回答!$BJ$7:$BJ$306,0,回答!$B$7:$B$306,$A11)) | C11: =IF($A11="","",IF($B11<設定!$B$10,"―",ROUND(AVERAGEIFS(回答!$BP$7:$BP$306,回答!$BJ$7:$BJ$306,0,回答!$B$7:$B$306,$A11),1))) | D11: =IF($A11="","",IF($B11<設定!$B$10,"―",ROUND(AVERAGEIFS(回答!$BQ$7:$BQ$306,回答!$BJ$7:$BJ$306,0,回答!$B$7:$B$306,$A11),1))) | E11: =IF($A11="","",IF($B11<設定!$B$10,"―",ROUND(AVERAGEIFS(回答!$BR$7:$BR$306,回答!$BJ$7:$BJ$306,0,回答!$B$7:$B$306,$A11),1))) | F11: =IF($A11="","",IF($B11<設定!$B$10,"―",ROUND(AVERAGEIFS(回答!$BS$7:$BS$306,回答!$BJ$7:$BJ$306,0,回答!$B$7:$B$306,$A11),1))) | G11: =IF($A11="","",IF($B11<設定!$B$10,"―",ROUND(100*EXP((C11-設定!$B$21)*設定!$C$21+(D11-設定!$B$22)*設定!$C$22),0))) | H11: =IF($A11="","",IF($B11<設定!$B$10,"―",ROUND(100*EXP((E11-設定!$B$23)*設定!$C$23+(F11-設定!$B$24)*設定!$C$24),0))) | I11: =IF($A11="","",IF($B11<設定!$B$10,"―",ROUND(G11*H11/100,0))) | J11: =IF($A11="","",IF($B11=0,"",IF($B11<設定!$B$10,"人数が少ないため表示しない",IF(I11>=120,"要注意(120以上)",""))))
B12: =IF($A12="","",COUNTIFS(回答!$BJ$7:$BJ$306,0,回答!$B$7:$B$306,$A12)) | C12: =IF($A12="","",IF($B12<設定!$B$10,"―",ROUND(AVERAGEIFS(回答!$BP$7:$BP$306,回答!$BJ$7:$BJ$306,0,回答!$B$7:$B$306,$A12),1))) | D12: =IF($A12="","",IF($B12<設定!$B$10,"―",ROUND(AVERAGEIFS(回答!$BQ$7:$BQ$306,回答!$BJ$7:$BJ$306,0,回答!$B$7:$B$306,$A12),1))) | E12: =IF($A12="","",IF($B12<設定!$B$10,"―",ROUND(AVERAGEIFS(回答!$BR$7:$BR$306,回答!$BJ$7:$BJ$306,0,回答!$B$7:$B$306,$A12),1))) | F12: =IF($A12="","",IF($B12<設定!$B$10,"―",ROUND(AVERAGEIFS(回答!$BS$7:$BS$306,回答!$BJ$7:$BJ$306,0,回答!$B$7:$B$306,$A12),1))) | G12: =IF($A12="","",IF($B12<設定!$B$10,"―",ROUND(100*EXP((C12-設定!$B$21)*設定!$C$21+(D12-設定!$B$22)*設定!$C$22),0))) | H12: =IF($A12="","",IF($B12<設定!$B$10,"―",ROUND(100*EXP((E12-設定!$B$23)*設定!$C$23+(F12-設定!$B$24)*設定!$C$24),0))) | I12: =IF($A12="","",IF($B12<設定!$B$10,"―",ROUND(G12*H12/100,0))) | J12: =IF($A12="","",IF($B12=0,"",IF($B12<設定!$B$10,"人数が少ないため表示しない",IF(I12>=120,"要注意(120以上)",""))))
B13: =IF($A13="","",COUNTIFS(回答!$BJ$7:$BJ$306,0,回答!$B$7:$B$306,$A13)) | C13: =IF($A13="","",IF($B13<設定!$B$10,"―",ROUND(AVERAGEIFS(回答!$BP$7:$BP$306,回答!$BJ$7:$BJ$306,0,回答!$B$7:$B$306,$A13),1))) | D13: =IF($A13="","",IF($B13<設定!$B$10,"―",ROUND(AVERAGEIFS(回答!$BQ$7:$BQ$306,回答!$BJ$7:$BJ$306,0,回答!$B$7:$B$306,$A13),1))) | E13: =IF($A13="","",IF($B13<設定!$B$10,"―",ROUND(AVERAGEIFS(回答!$BR$7:$BR$306,回答!$BJ$7:$BJ$306,0,回答!$B$7:$B$306,$A13),1))) | F13: =IF($A13="","",IF($B13<設定!$B$10,"―",ROUND(AVERAGEIFS(回答!$BS$7:$BS$306,回答!$BJ$7:$BJ$306,0,回答!$B$7:$B$306,$A13),1))) | G13: =IF($A13="","",IF($B13<設定!$B$10,"―",ROUND(100*EXP((C13-設定!$B$21)*設定!$C$21+(D13-設定!$B$22)*設定!$C$22),0))) | H13: =IF($A13="","",IF($B13<設定!$B$10,"―",ROUND(100*EXP((E13-設定!$B$23)*設定!$C$23+(F13-設定!$B$24)*設定!$C$24),0))) | I13: =IF($A13="","",IF($B13<設定!$B$10,"―",ROUND(G13*H13/100,0))) | J13: =IF($A13="","",IF($B13=0,"",IF($B13<設定!$B$10,"人数が少ないため表示しない",IF(I13>=120,"要注意(120以上)",""))))
B14: =IF($A14="","",COUNTIFS(回答!$BJ$7:$BJ$306,0,回答!$B$7:$B$306,$A14)) | C14: =IF($A14="","",IF($B14<設定!$B$10,"―",ROUND(AVERAGEIFS(回答!$BP$7:$BP$306,回答!$BJ$7:$BJ$306,0,回答!$B$7:$B$306,$A14),1))) | D14: =IF($A14="","",IF($B14<設定!$B$10,"―",ROUND(AVERAGEIFS(回答!$BQ$7:$BQ$306,回答!$BJ$7:$BJ$306,0,回答!$B$7:$B$306,$A14),1))) | E14: =IF($A14="","",IF($B14<設定!$B$10,"―",ROUND(AVERAGEIFS(回答!$BR$7:$BR$306,回答!$BJ$7:$BJ$306,0,回答!$B$7:$B$306,$A14),1))) | F14: =IF($A14="","",IF($B14<設定!$B$10,"―",ROUND(AVERAGEIFS(回答!$BS$7:$BS$306,回答!$BJ$7:$BJ$306,0,回答!$B$7:$B$306,$A14),1))) | G14: =IF($A14="","",IF($B14<設定!$B$10,"―",ROUND(100*EXP((C14-設定!$B$21)*設定!$C$21+(D14-設定!$B$22)*設定!$C$22),0))) | H14: =IF($A14="","",IF($B14<設定!$B$10,"―",ROUND(100*EXP((E14-設定!$B$23)*設定!$C$23+(F14-設定!$B$24)*設定!$C$24),0))) | I14: =IF($A14="","",IF($B14<設定!$B$10,"―",ROUND(G14*H14/100,0))) | J14: =IF($A14="","",IF($B14=0,"",IF($B14<設定!$B$10,"人数が少ないため表示しない",IF(I14>=120,"要注意(120以上)",""))))
B15: =IF($A15="","",COUNTIFS(回答!$BJ$7:$BJ$306,0,回答!$B$7:$B$306,$A15)) | C15: =IF($A15="","",IF($B15<設定!$B$10,"―",ROUND(AVERAGEIFS(回答!$BP$7:$BP$306,回答!$BJ$7:$BJ$306,0,回答!$B$7:$B$306,$A15),1))) | D15: =IF($A15="","",IF($B15<設定!$B$10,"―",ROUND(AVERAGEIFS(回答!$BQ$7:$BQ$306,回答!$BJ$7:$BJ$306,0,回答!$B$7:$B$306,$A15),1))) | E15: =IF($A15="","",IF($B15<設定!$B$10,"―",ROUND(AVERAGEIFS(回答!$BR$7:$BR$306,回答!$BJ$7:$BJ$306,0,回答!$B$7:$B$306,$A15),1))) | F15: =IF($A15="","",IF($B15<設定!$B$10,"―",ROUND(AVERAGEIFS(回答!$BS$7:$BS$306,回答!$BJ$7:$BJ$306,0,回答!$B$7:$B$306,$A15),1))) | G15: =IF($A15="","",IF($B15<設定!$B$10,"―",ROUND(100*EXP((C15-設定!$B$21)*設定!$C$21+(D15-設定!$B$22)*設定!$C$22),0))) | H15: =IF($A15="","",IF($B15<設定!$B$10,"―",ROUND(100*EXP((E15-設定!$B$23)*設定!$C$23+(F15-設定!$B$24)*設定!$C$24),0))) | I15: =IF($A15="","",IF($B15<設定!$B$10,"―",ROUND(G15*H15/100,0))) | J15: =IF($A15="","",IF($B15=0,"",IF($B15<設定!$B$10,"人数が少ないため表示しない",IF(I15>=120,"要注意(120以上)",""))))
B16: =IF($A16="","",COUNTIFS(回答!$BJ$7:$BJ$306,0,回答!$B$7:$B$306,$A16)) | C16: =IF($A16="","",IF($B16<設定!$B$10,"―",ROUND(AVERAGEIFS(回答!$BP$7:$BP$306,回答!$BJ$7:$BJ$306,0,回答!$B$7:$B$306,$A16),1))) | D16: =IF($A16="","",IF($B16<設定!$B$10,"―",ROUND(AVERAGEIFS(回答!$BQ$7:$BQ$306,回答!$BJ$7:$BJ$306,0,回答!$B$7:$B$306,$A16),1))) | E16: =IF($A16="","",IF($B16<設定!$B$10,"―",ROUND(AVERAGEIFS(回答!$BR$7:$BR$306,回答!$BJ$7:$BJ$306,0,回答!$B$7:$B$306,$A16),1))) | F16: =IF($A16="","",IF($B16<設定!$B$10,"―",ROUND(AVERAGEIFS(回答!$BS$7:$BS$306,回答!$BJ$7:$BJ$306,0,回答!$B$7:$B$306,$A16),1))) | G16: =IF($A16="","",IF($B16<設定!$B$10,"―",ROUND(100*EXP((C16-設定!$B$21)*設定!$C$21+(D16-設定!$B$22)*設定!$C$22),0))) | H16: =IF($A16="","",IF($B16<設定!$B$10,"―",ROUND(100*EXP((E16-設定!$B$23)*設定!$C$23+(F16-設定!$B$24)*設定!$C$24),0))) | I16: =IF($A16="","",IF($B16<設定!$B$10,"―",ROUND(G16*H16/100,0))) | J16: =IF($A16="","",IF($B16=0,"",IF($B16<設定!$B$10,"人数が少ないため表示しない",IF(I16>=120,"要注意(120以上)",""))))
B17: =IF($A17="","",COUNTIFS(回答!$BJ$7:$BJ$306,0,回答!$B$7:$B$306,$A17)) | C17: =IF($A17="","",IF($B17<設定!$B$10,"―",ROUND(AVERAGEIFS(回答!$BP$7:$BP$306,回答!$BJ$7:$BJ$306,0,回答!$B$7:$B$306,$A17),1))) | D17: =IF($A17="","",IF($B17<設定!$B$10,"―",ROUND(AVERAGEIFS(回答!$BQ$7:$BQ$306,回答!$BJ$7:$BJ$306,0,回答!$B$7:$B$306,$A17),1))) | E17: =IF($A17="","",IF($B17<設定!$B$10,"―",ROUND(AVERAGEIFS(回答!$BR$7:$BR$306,回答!$BJ$7:$BJ$306,0,回答!$B$7:$B$306,$A17),1))) | F17: =IF($A17="","",IF($B17<設定!$B$10,"―",ROUND(AVERAGEIFS(回答!$BS$7:$BS$306,回答!$BJ$7:$BJ$306,0,回答!$B$7:$B$306,$A17),1))) | G17: =IF($A17="","",IF($B17<設定!$B$10,"―",ROUND(100*EXP((C17-設定!$B$21)*設定!$C$21+(D17-設定!$B$22)*設定!$C$22),0))) | H17: =IF($A17="","",IF($B17<設定!$B$10,"―",ROUND(100*EXP((E17-設定!$B$23)*設定!$C$23+(F17-設定!$B$24)*設定!$C$24),0))) | I17: =IF($A17="","",IF($B17<設定!$B$10,"―",ROUND(G17*H17/100,0))) | J17: =IF($A17="","",IF($B17=0,"",IF($B17<設定!$B$10,"人数が少ないため表示しない",IF(I17>=120,"要注意(120以上)",""))))
B18: =IF($A18="","",COUNTIFS(回答!$BJ$7:$BJ$306,0,回答!$B$7:$B$306,$A18)) | C18: =IF($A18="","",IF($B18<設定!$B$10,"―",ROUND(AVERAGEIFS(回答!$BP$7:$BP$306,回答!$BJ$7:$BJ$306,0,回答!$B$7:$B$306,$A18),1))) | D18: =IF($A18="","",IF($B18<設定!$B$10,"―",ROUND(AVERAGEIFS(回答!$BQ$7:$BQ$306,回答!$BJ$7:$BJ$306,0,回答!$B$7:$B$306,$A18),1))) | E18: =IF($A18="","",IF($B18<設定!$B$10,"―",ROUND(AVERAGEIFS(回答!$BR$7:$BR$306,回答!$BJ$7:$BJ$306,0,回答!$B$7:$B$306,$A18),1))) | F18: =IF($A18="","",IF($B18<設定!$B$10,"―",ROUND(AVERAGEIFS(回答!$BS$7:$BS$306,回答!$BJ$7:$BJ$306,0,回答!$B$7:$B$306,$A18),1))) | G18: =IF($A18="","",IF($B18<設定!$B$10,"―",ROUND(100*EXP((C18-設定!$B$21)*設定!$C$21+(D18-設定!$B$22)*設定!$C$22),0))) | H18: =IF($A18="","",IF($B18<設定!$B$10,"―",ROUND(100*EXP((E18-設定!$B$23)*設定!$C$23+(F18-設定!$B$24)*設定!$C$24),0))) | I18: =IF($A18="","",IF($B18<設定!$B$10,"―",ROUND(G18*H18/100,0))) | J18: =IF($A18="","",IF($B18=0,"",IF($B18<設定!$B$10,"人数が少ないため表示しない",IF(I18>=120,"要注意(120以上)",""))))
... B25: =IF($A25="","",COUNTIFS(回答!$BJ$7:$BJ$306,0,回答!$B$7:$B$306,$A25)) | C25: =IF($A25="","",IF($B25<設定!$B$10,"―",ROUND(AVERAGEIFS(回答!$BP$7:$BP$306,回答!$BJ$7:$BJ$306,0,回答!$B$7:$B$306,$A25),1))) | D25: =IF($A25="","",IF($B25<設定!$B$10,"―",ROUND(AVERAGEIFS(回答!$BQ$7:$BQ$306,回答!$BJ$7:$BJ$306,0,回答!$B$7:$B$306,$A25),1))) | E25: =IF($A25="","",IF($B25<設定!$B$10,"―",ROUND(AVERAGEIFS(回答!$BR$7:$BR$306,回答!$BJ$7:$BJ$306,0,回答!$B$7:$B$306,$A25),1))) | F25: =IF($A25="","",IF($B25<設定!$B$10,"―",ROUND(AVERAGEIFS(回答!$BS$7:$BS$306,回答!$BJ$7:$BJ$306,0,回答!$B$7:$B$306,$A25),1))) | G25: =IF($A25="","",IF($B25<設定!$B$10,"―",ROUND(100*EXP((C25-設定!$B$21)*設定!$C$21+(D25-設定!$B$22)*設定!$C$22),0))) | H25: =IF($A25="","",IF($B25<設定!$B$10,"―",ROUND(100*EXP((E25-設定!$B$23)*設定!$C$23+(F25-設定!$B$24)*設定!$C$24),0))) | I25: =IF($A25="","",IF($B25<設定!$B$10,"―",ROUND(G25*H25/100,0))) | J25: =IF($A25="","",IF($B25=0,"",IF($B25<設定!$B$10,"人数が少ないため表示しない",IF(I25>=120,"要注意(120以上)",""))))
A28: 受検の状況(労働基準監督署への報告書・実施者への報告用)
A29: 回答した人数(入力のある行) | D29: =SUMPRODUCT(--(回答!$BJ$7:$BJ$306<>"")) -> 0
A30: 未回答の項目がある人数 | D30: =COUNTIF(回答!$BJ$7:$BJ$306,">0") -> 0
A31: 高ストレス者の候補(一次判定)の人数 | D31: =COUNTIF(回答!$BO$7:$BO$306,"高ストレス候補") -> 0
A33: 高ストレス者の人数は、実施者の確認で変わることがあります。報告書には、実施者が決めた人数を書きます。

Sheet 設定
A1: 設定(判定基準と、健康リスクの計算に使う数値)
A3: 高ストレス者の一次判定(合計点数を使う方法)
A4: 基準1: 領域Bの合計が この点以上 | B4: 77 | D4: マニュアルの評価基準の例(その1)
A5: 基準2: 領域Bの合計が この点以上 かつ | B5: 63
A6: 基準2: 領域A+Cの合計が この点以上 | B6: 76
A8: 集団分析(仕事のストレス判定図)
A9: 使う基準(男性/女性) | B9: 男性 | D9: 男女を分けないときは男性の基準を使います
A10: 集団分析を表示する最少人数 | B10: 10 | D10: 10人未満は原則として会社に出さない
A12: 尺度 | B12: 全国平均(男性) | C12: 係数(男性) | D12: 全国平均(女性) | E12: 係数(女性)
A13: 仕事の量的負担 | B13: 8.7 | C13: 0.076 | D13: 7.9 | E13: 0.048
A14: 仕事のコントロール | B14: 7.9 | C14: -0.089 | D14: 7.2 | E14: -0.056
A15: 上司の支援 | B15: 7.5 | C15: -0.097 | D15: 6.6 | E15: -0.097
A16: 同僚の支援 | B16: 8.1 | C16: -0.097 | D16: 8.2 | E16: -0.097
A18: 出典: 東京大学「仕事のストレス判定図」テクニカルノート(職業性ストレス簡易調査票の全国平均は、東京医科大学のプログラムの訂正後の値)。
A20: (計算用)選んだ基準の値
A21: 仕事の量的負担 | B21: =IF($B$9="女性",D13,B13) -> 8.7 | C21: =IF($B$9="女性",E13,C13) -> 0.076
A22: 仕事のコントロール | B22: =IF($B$9="女性",D14,B14) -> 7.9 | C22: =IF($B$9="女性",E14,C14) -> -0.089
A23: 上司の支援 | B23: =IF($B$9="女性",D15,B15) -> 7.5 | C23: =IF($B$9="女性",E15,C15) -> -0.097
A24: 同僚の支援 | B24: =IF($B$9="女性",D16,B16) -> 8.1 | C24: =IF($B$9="女性",E16,C16) -> -0.097

Sheet 質問票の番号
A1: 職業性ストレス簡易調査票(57項目)の番号と、入力する数字
A3: A | B3: あなたの仕事について(1=そうだ 2=まあそうだ 3=ややちがう 4=ちがう)
A4: A1 | B4: 非常にたくさんの仕事をしなければならない | C4: 合計では点数を逆にして計算(1⇔4、2⇔3)
A5: A2 | B5: 時間内に仕事が処理しきれない | C5: 合計では点数を逆にして計算(1⇔4、2⇔3)
A6: A3 | B6: 一生懸命働かなければならない | C6: 合計では点数を逆にして計算(1⇔4、2⇔3)
A7: A4 | B7: かなり注意を集中する必要がある | C7: 合計では点数を逆にして計算(1⇔4、2⇔3)
A8: A5 | B8: 高度の知識や技術が必要なむずかしい仕事だ | C8: 合計では点数を逆にして計算(1⇔4、2⇔3)
A9: A6 | B9: 勤務時間中はいつも仕事のことを考えていなければならない | C9: 合計では点数を逆にして計算(1⇔4、2⇔3)
A10: A7 | B10: からだを大変よく使う仕事だ | C10: 合計では点数を逆にして計算(1⇔4、2⇔3)
A11: A8 | B11: 自分のペースで仕事ができる
A12: A9 | B12: 自分で仕事の順番・やり方を決めることができる
A13: A10 | B13: 職場の仕事の方針に自分の意見を反映できる
A14: A11 | B14: 自分の技能や知識を仕事で使うことが少ない | C14: 合計では点数を逆にして計算(1⇔4、2⇔3)
A15: A12 | B15: 私の部署内で意見のくい違いがある | C15: 合計では点数を逆にして計算(1⇔4、2⇔3)
A16: A13 | B16: 私の部署と他の部署とはうまが合わない | C16: 合計では点数を逆にして計算(1⇔4、2⇔3)
A17: A14 | B17: 私の職場の雰囲気は友好的である
A18: A15 | B18: 私の職場の作業環境(騒音、照明、温度、換気など)はよくない | C18: 合計では点数を逆にして計算(1⇔4、2⇔3)
A19: A16 | B19: 仕事の内容は自分にあっている
A20: A17 | B20: 働きがいのある仕事だ
A22: B | B22: 最近1か月間のあなたの状態(1=ほとんどなかった 2=ときどきあった 3=しばしばあった 4=ほとんどいつもあった)
A23: B1 | B23: 活気がわいてくる | C23: 合計では点数を逆にして計算(1⇔4、2⇔3)
A24: B2 | B24: 元気がいっぱいだ | C24: 合計では点数を逆にして計算(1⇔4、2⇔3)
A25: B3 | B25: 生き生きする | C25: 合計では点数を逆にして計算(1⇔4、2⇔3)
A26: B4 | B26: 怒りを感じる
A27: B5 | B27: 内心腹立たしい
A28: B6 | B28: イライラしている
A29: B7 | B29: ひどく疲れた
A30: B8 | B30: へとへとだ
A31: B9 | B31: だるい
A32: B10 | B32: 気がはりつめている
A33: B11 | B33: 不安だ
A34: B12 | B34: 落着かない
A35: B13 | B35: ゆううつだ
A36: B14 | B36: 何をするのも面倒だ
A37: B15 | B37: 物事に集中できない
... A66: D2 | B66: 家庭生活に満足だ
